BEGIN:VCALENDAR
VERSION:2.0
PRODID:-//Holiday Park Resort - ECPv6.15.20//NONSGML v1.0//EN
CALSCALE:GREGORIAN
METHOD:PUBLISH
X-ORIGINAL-URL:https://sweetlife.com
X-WR-CALDESC:Events for Holiday Park Resort
REFRESH-INTERVAL;VALUE=DURATION:PT1H
X-Robots-Tag:noindex
X-PUBLISHED-TTL:PT1H
BEGIN:VTIMEZONE
TZID:America/Vancouver
BEGIN:DAYLIGHT
TZOFFSETFROM:-0800
TZOFFSETTO:-0700
TZNAME:PDT
DTSTART:20200308T100000
END:DAYLIGHT
BEGIN:STANDARD
TZOFFSETFROM:-0700
TZOFFSETTO:-0800
TZNAME:PST
DTSTART:20201101T090000
END:STANDARD
BEGIN:DAYLIGHT
TZOFFSETFROM:-0800
TZOFFSETTO:-0700
TZNAME:PDT
DTSTART:20210314T100000
END:DAYLIGHT
BEGIN:STANDARD
TZOFFSETFROM:-0700
TZOFFSETTO:-0800
TZNAME:PST
DTSTART:20211107T090000
END:STANDARD
BEGIN:DAYLIGHT
TZOFFSETFROM:-0800
TZOFFSETTO:-0700
TZNAME:PDT
DTSTART:20220313T100000
END:DAYLIGHT
BEGIN:STANDARD
TZOFFSETFROM:-0700
TZOFFSETTO:-0800
TZNAME:PST
DTSTART:20221106T090000
END:STANDARD
END:VTIMEZONE
BEGIN:VEVENT
DTSTART;TZID=America/Vancouver:20210718T130000
DTEND;TZID=America/Vancouver:20210718T160000
DTSTAMP:20260420T003406
CREATED:20171122T014110Z
LAST-MODIFIED:20210716T010741Z
UID:9022-1626613200-1626624000@sweetlife.com
SUMMARY:Hand and Foot
DESCRIPTION:Every Sunday\nWoodlands Adult Centre\n12:45 register\, starts promptly @ 1 pm
URL:https://sweetlife.com/hprevent/hand-foot/
LOCATION:Woodlands Adult Centre
CATEGORIES:Other
END:VEVENT
BEGIN:VEVENT
DTSTART;TZID=America/Vancouver:20210718T130000
DTEND;TZID=America/Vancouver:20210718T160000
DTSTAMP:20260420T003406
CREATED:20171122T014110Z
LAST-MODIFIED:20210716T010741Z
UID:9022-1626613200-1626624000@sweetlife.com
SUMMARY:Hand and Foot
DESCRIPTION:Every Sunday\nWoodlands Adult Centre\n12:45 register\, starts promptly @ 1 pm
URL:https://sweetlife.com/hprevent/hand-foot/
LOCATION:Woodlands Adult Centre
CATEGORIES:Other
END:VEVENT
BEGIN:VEVENT
DTSTART;TZID=America/Vancouver:20210718T130000
DTEND;TZID=America/Vancouver:20210718T160000
DTSTAMP:20260420T003406
CREATED:20171122T014110Z
LAST-MODIFIED:20210716T010741Z
UID:9022-1626613200-1626624000@sweetlife.com
SUMMARY:Hand and Foot
DESCRIPTION:Every Sunday\nWoodlands Adult Centre\n12:45 register\, starts promptly @ 1 pm
URL:https://sweetlife.com/hprevent/hand-foot/
LOCATION:Woodlands Adult Centre
CATEGORIES:Other
END:VEVENT
BEGIN:VEVENT
DTSTART;TZID=America/Vancouver:20210718T130000
DTEND;TZID=America/Vancouver:20210718T160000
DTSTAMP:20260420T003406
CREATED:20171122T014110Z
LAST-MODIFIED:20210716T010741Z
UID:9022-1626613200-1626624000@sweetlife.com
SUMMARY:Hand and Foot
DESCRIPTION:Every Sunday\nWoodlands Adult Centre\n12:45 register\, starts promptly @ 1 pm
URL:https://sweetlife.com/hprevent/hand-foot/
LOCATION:Woodlands Adult Centre
CATEGORIES:Other
END:VEVENT
BEGIN:VEVENT
DTSTART;TZID=America/Vancouver:20210718T130000
DTEND;TZID=America/Vancouver:20210718T160000
DTSTAMP:20260420T003406
CREATED:20171122T014110Z
LAST-MODIFIED:20210716T010741Z
UID:9022-1626613200-1626624000@sweetlife.com
SUMMARY:Hand and Foot
DESCRIPTION:Every Sunday\nWoodlands Adult Centre\n12:45 register\, starts promptly @ 1 pm
URL:https://sweetlife.com/hprevent/hand-foot/
LOCATION:Woodlands Adult Centre
CATEGORIES:Other
END:VEVENT
BEGIN:VEVENT
DTSTART;TZID=America/Vancouver:20210718T130000
DTEND;TZID=America/Vancouver:20210718T160000
DTSTAMP:20260420T003406
CREATED:20171122T014110Z
LAST-MODIFIED:20210716T010741Z
UID:9022-1626613200-1626624000@sweetlife.com
SUMMARY:Hand and Foot
DESCRIPTION:Every Sunday\nWoodlands Adult Centre\n12:45 register\, starts promptly @ 1 pm
URL:https://sweetlife.com/hprevent/hand-foot/
LOCATION:Woodlands Adult Centre
CATEGORIES:Other
END:VEVENT
BEGIN:VEVENT
DTSTART;TZID=America/Vancouver:20210718T130000
DTEND;TZID=America/Vancouver:20210718T160000
DTSTAMP:20260420T003406
CREATED:20171122T014110Z
LAST-MODIFIED:20210716T010741Z
UID:9022-1626613200-1626624000@sweetlife.com
SUMMARY:Hand and Foot
DESCRIPTION:Every Sunday\nWoodlands Adult Centre\n12:45 register\, starts promptly @ 1 pm
URL:https://sweetlife.com/hprevent/hand-foot/
LOCATION:Woodlands Adult Centre
CATEGORIES:Other
END:VEVENT
BEGIN:VEVENT
DTSTART;TZID=America/Vancouver:20210718T130000
DTEND;TZID=America/Vancouver:20210718T160000
DTSTAMP:20260420T003406
CREATED:20171122T014110Z
LAST-MODIFIED:20210716T010741Z
UID:9022-1626613200-1626624000@sweetlife.com
SUMMARY:Hand and Foot
DESCRIPTION:Every Sunday\nWoodlands Adult Centre\n12:45 register\, starts promptly @ 1 pm
URL:https://sweetlife.com/hprevent/hand-foot/
LOCATION:Woodlands Adult Centre
CATEGORIES:Other
END:VEVENT
BEGIN:VEVENT
DTSTART;TZID=America/Vancouver:20210718T130000
DTEND;TZID=America/Vancouver:20210718T160000
DTSTAMP:20260420T003406
CREATED:20171122T014110Z
LAST-MODIFIED:20210716T010741Z
UID:9022-1626613200-1626624000@sweetlife.com
SUMMARY:Hand and Foot
DESCRIPTION:Every Sunday\nWoodlands Adult Centre\n12:45 register\, starts promptly @ 1 pm
URL:https://sweetlife.com/hprevent/hand-foot/
LOCATION:Woodlands Adult Centre
CATEGORIES:Other
END:VEVENT
BEGIN:VEVENT
DTSTART;TZID=America/Vancouver:20210718T130000
DTEND;TZID=America/Vancouver:20210718T160000
DTSTAMP:20260420T003406
CREATED:20171122T014110Z
LAST-MODIFIED:20210716T010741Z
UID:9022-1626613200-1626624000@sweetlife.com
SUMMARY:Hand and Foot
DESCRIPTION:Every Sunday\nWoodlands Adult Centre\n12:45 register\, starts promptly @ 1 pm
URL:https://sweetlife.com/hprevent/hand-foot/
LOCATION:Woodlands Adult Centre
CATEGORIES:Other
END:VEVENT
BEGIN:VEVENT
DTSTART;TZID=America/Vancouver:20210718T130000
DTEND;TZID=America/Vancouver:20210718T160000
DTSTAMP:20260420T003406
CREATED:20171122T014110Z
LAST-MODIFIED:20210716T010741Z
UID:9022-1626613200-1626624000@sweetlife.com
SUMMARY:Hand and Foot
DESCRIPTION:Every Sunday\nWoodlands Adult Centre\n12:45 register\, starts promptly @ 1 pm
URL:https://sweetlife.com/hprevent/hand-foot/
LOCATION:Woodlands Adult Centre
CATEGORIES:Other
END:VEVENT
BEGIN:VEVENT
DTSTART;TZID=America/Vancouver:20210718T130000
DTEND;TZID=America/Vancouver:20210718T160000
DTSTAMP:20260420T003406
CREATED:20171122T014110Z
LAST-MODIFIED:20210716T010741Z
UID:9022-1626613200-1626624000@sweetlife.com
SUMMARY:Hand and Foot
DESCRIPTION:Every Sunday\nWoodlands Adult Centre\n12:45 register\, starts promptly @ 1 pm
URL:https://sweetlife.com/hprevent/hand-foot/
LOCATION:Woodlands Adult Centre
CATEGORIES:Other
END:VEVENT
BEGIN:VEVENT
DTSTART;TZID=America/Vancouver:20210718T130000
DTEND;TZID=America/Vancouver:20210718T160000
DTSTAMP:20260420T003406
CREATED:20171122T014110Z
LAST-MODIFIED:20210716T010741Z
UID:9022-1626613200-1626624000@sweetlife.com
SUMMARY:Hand and Foot
DESCRIPTION:Every Sunday\nWoodlands Adult Centre\n12:45 register\, starts promptly @ 1 pm
URL:https://sweetlife.com/hprevent/hand-foot/
LOCATION:Woodlands Adult Centre
CATEGORIES:Other
END:VEVENT
BEGIN:VEVENT
DTSTART;TZID=America/Vancouver:20210718T130000
DTEND;TZID=America/Vancouver:20210718T160000
DTSTAMP:20260420T003406
CREATED:20171122T014110Z
LAST-MODIFIED:20210716T010741Z
UID:9022-1626613200-1626624000@sweetlife.com
SUMMARY:Hand and Foot
DESCRIPTION:Every Sunday\nWoodlands Adult Centre\n12:45 register\, starts promptly @ 1 pm
URL:https://sweetlife.com/hprevent/hand-foot/
LOCATION:Woodlands Adult Centre
CATEGORIES:Other
END:VEVENT
BEGIN:VEVENT
DTSTART;TZID=America/Vancouver:20210718T130000
DTEND;TZID=America/Vancouver:20210718T160000
DTSTAMP:20260420T003406
CREATED:20171122T014110Z
LAST-MODIFIED:20210716T010741Z
UID:9022-1626613200-1626624000@sweetlife.com
SUMMARY:Hand and Foot
DESCRIPTION:Every Sunday\nWoodlands Adult Centre\n12:45 register\, starts promptly @ 1 pm
URL:https://sweetlife.com/hprevent/hand-foot/
LOCATION:Woodlands Adult Centre
CATEGORIES:Other
END:VEVENT
BEGIN:VEVENT
DTSTART;TZID=America/Vancouver:20210718T130000
DTEND;TZID=America/Vancouver:20210718T160000
DTSTAMP:20260420T003406
CREATED:20171122T014110Z
LAST-MODIFIED:20210716T010741Z
UID:9022-1626613200-1626624000@sweetlife.com
SUMMARY:Hand and Foot
DESCRIPTION:Every Sunday\nWoodlands Adult Centre\n12:45 register\, starts promptly @ 1 pm
URL:https://sweetlife.com/hprevent/hand-foot/
LOCATION:Woodlands Adult Centre
CATEGORIES:Other
END:VEVENT
BEGIN:VEVENT
DTSTART;TZID=America/Vancouver:20210718T130000
DTEND;TZID=America/Vancouver:20210718T160000
DTSTAMP:20260420T003406
CREATED:20171122T014110Z
LAST-MODIFIED:20210716T010741Z
UID:9022-1626613200-1626624000@sweetlife.com
SUMMARY:Hand and Foot
DESCRIPTION:Every Sunday\nWoodlands Adult Centre\n12:45 register\, starts promptly @ 1 pm
URL:https://sweetlife.com/hprevent/hand-foot/
LOCATION:Woodlands Adult Centre
CATEGORIES:Other
END:VEVENT
BEGIN:VEVENT
DTSTART;TZID=America/Vancouver:20210718T130000
DTEND;TZID=America/Vancouver:20210718T160000
DTSTAMP:20260420T003406
CREATED:20171122T014110Z
LAST-MODIFIED:20210716T010741Z
UID:9022-1626613200-1626624000@sweetlife.com
SUMMARY:Hand and Foot
DESCRIPTION:Every Sunday\nWoodlands Adult Centre\n12:45 register\, starts promptly @ 1 pm
URL:https://sweetlife.com/hprevent/hand-foot/
LOCATION:Woodlands Adult Centre
CATEGORIES:Other
END:VEVENT
BEGIN:VEVENT
DTSTART;TZID=America/Vancouver:20210718T130000
DTEND;TZID=America/Vancouver:20210718T160000
DTSTAMP:20260420T003406
CREATED:20171122T014110Z
LAST-MODIFIED:20210716T010741Z
UID:9022-1626613200-1626624000@sweetlife.com
SUMMARY:Hand and Foot
DESCRIPTION:Every Sunday\nWoodlands Adult Centre\n12:45 register\, starts promptly @ 1 pm
URL:https://sweetlife.com/hprevent/hand-foot/
LOCATION:Woodlands Adult Centre
CATEGORIES:Other
END:VEVENT
BEGIN:VEVENT
DTSTART;TZID=America/Vancouver:20210718T130000
DTEND;TZID=America/Vancouver:20210718T160000
DTSTAMP:20260420T003406
CREATED:20171122T014110Z
LAST-MODIFIED:20210716T010741Z
UID:9022-1626613200-1626624000@sweetlife.com
SUMMARY:Hand and Foot
DESCRIPTION:Every Sunday\nWoodlands Adult Centre\n12:45 register\, starts promptly @ 1 pm
URL:https://sweetlife.com/hprevent/hand-foot/
LOCATION:Woodlands Adult Centre
CATEGORIES:Other
END:VEVENT
BEGIN:VEVENT
DTSTART;TZID=America/Vancouver:20210718T130000
DTEND;TZID=America/Vancouver:20210718T160000
DTSTAMP:20260420T003406
CREATED:20171122T014110Z
LAST-MODIFIED:20210716T010741Z
UID:9022-1626613200-1626624000@sweetlife.com
SUMMARY:Hand and Foot
DESCRIPTION:Every Sunday\nWoodlands Adult Centre\n12:45 register\, starts promptly @ 1 pm
URL:https://sweetlife.com/hprevent/hand-foot/
LOCATION:Woodlands Adult Centre
CATEGORIES:Other
END:VEVENT
BEGIN:VEVENT
DTSTART;TZID=America/Vancouver:20210718T130000
DTEND;TZID=America/Vancouver:20210718T160000
DTSTAMP:20260420T003406
CREATED:20171122T014110Z
LAST-MODIFIED:20210716T010741Z
UID:9022-1626613200-1626624000@sweetlife.com
SUMMARY:Hand and Foot
DESCRIPTION:Every Sunday\nWoodlands Adult Centre\n12:45 register\, starts promptly @ 1 pm
URL:https://sweetlife.com/hprevent/hand-foot/
LOCATION:Woodlands Adult Centre
CATEGORIES:Other
END:VEVENT
BEGIN:VEVENT
DTSTART;TZID=America/Vancouver:20210718T130000
DTEND;TZID=America/Vancouver:20210718T160000
DTSTAMP:20260420T003406
CREATED:20171122T014110Z
LAST-MODIFIED:20210716T010741Z
UID:9022-1626613200-1626624000@sweetlife.com
SUMMARY:Hand and Foot
DESCRIPTION:Every Sunday\nWoodlands Adult Centre\n12:45 register\, starts promptly @ 1 pm
URL:https://sweetlife.com/hprevent/hand-foot/
LOCATION:Woodlands Adult Centre
CATEGORIES:Other
END:VEVENT
BEGIN:VEVENT
DTSTART;TZID=America/Vancouver:20210718T130000
DTEND;TZID=America/Vancouver:20210718T160000
DTSTAMP:20260420T003406
CREATED:20171122T014110Z
LAST-MODIFIED:20210716T010741Z
UID:9022-1626613200-1626624000@sweetlife.com
SUMMARY:Hand and Foot
DESCRIPTION:Every Sunday\nWoodlands Adult Centre\n12:45 register\, starts promptly @ 1 pm
URL:https://sweetlife.com/hprevent/hand-foot/
LOCATION:Woodlands Adult Centre
CATEGORIES:Other
END:VEVENT
BEGIN:VEVENT
DTSTART;TZID=America/Vancouver:20210718T130000
DTEND;TZID=America/Vancouver:20210718T160000
DTSTAMP:20260420T003406
CREATED:20171122T014110Z
LAST-MODIFIED:20210716T010741Z
UID:9022-1626613200-1626624000@sweetlife.com
SUMMARY:Hand and Foot
DESCRIPTION:Every Sunday\nWoodlands Adult Centre\n12:45 register\, starts promptly @ 1 pm
URL:https://sweetlife.com/hprevent/hand-foot/
LOCATION:Woodlands Adult Centre
CATEGORIES:Other
END:VEVENT
BEGIN:VEVENT
DTSTART;TZID=America/Vancouver:20210718T130000
DTEND;TZID=America/Vancouver:20210718T160000
DTSTAMP:20260420T003406
CREATED:20171122T014110Z
LAST-MODIFIED:20210716T010741Z
UID:9022-1626613200-1626624000@sweetlife.com
SUMMARY:Hand and Foot
DESCRIPTION:Every Sunday\nWoodlands Adult Centre\n12:45 register\, starts promptly @ 1 pm
URL:https://sweetlife.com/hprevent/hand-foot/
LOCATION:Woodlands Adult Centre
CATEGORIES:Other
END:VEVENT
BEGIN:VEVENT
DTSTART;TZID=America/Vancouver:20210718T130000
DTEND;TZID=America/Vancouver:20210718T160000
DTSTAMP:20260420T003406
CREATED:20171122T014110Z
LAST-MODIFIED:20210716T010741Z
UID:9022-1626613200-1626624000@sweetlife.com
SUMMARY:Hand and Foot
DESCRIPTION:Every Sunday\nWoodlands Adult Centre\n12:45 register\, starts promptly @ 1 pm
URL:https://sweetlife.com/hprevent/hand-foot/
LOCATION:Woodlands Adult Centre
CATEGORIES:Other
END:VEVENT
BEGIN:VEVENT
DTSTART;TZID=America/Vancouver:20210726T100000
DTEND;TZID=America/Vancouver:20210726T123000
DTSTAMP:20260420T003406
CREATED:20210728T191856Z
LAST-MODIFIED:20210728T194952Z
UID:36101-1627293600-1627302600@sweetlife.com
SUMMARY:Ladies Day Golf
DESCRIPTION:Join the ladies for golf on Mondays at 10 am at the HP Golf Course. \nCost is $10.00/members\, $12.00/non-members\, includes lunch and prizes. \nPre-registration is required – sign up at the Golf Course Roundhouse. \nFor more information please contact Cheryl Papp\, 250-863-9155.
URL:https://sweetlife.com/hprevent/ladies-day-golf/
CATEGORIES:Other
END:VEVENT
BEGIN:VEVENT
DTSTART;TZID=America/Vancouver:20210718T130000
DTEND;TZID=America/Vancouver:20210718T160000
DTSTAMP:20260420T003406
CREATED:20171122T014110Z
LAST-MODIFIED:20210716T010741Z
UID:9022-1626613200-1626624000@sweetlife.com
SUMMARY:Hand and Foot
DESCRIPTION:Every Sunday\nWoodlands Adult Centre\n12:45 register\, starts promptly @ 1 pm
URL:https://sweetlife.com/hprevent/hand-foot/
LOCATION:Woodlands Adult Centre
CATEGORIES:Other
END:VEVENT
BEGIN:VEVENT
DTSTART;TZID=America/Vancouver:20210728T100000
DTEND;TZID=America/Vancouver:20210728T123000
DTSTAMP:20260420T003406
CREATED:20210729T201804Z
LAST-MODIFIED:20210729T201804Z
UID:36132-1627466400-1627475400@sweetlife.com
SUMMARY:Mens Golf Day
DESCRIPTION:Join the men for golf on Wednesdays at 10 am at the HP Golf Course. \nCost is $10.00/members\, $12.00/non-members\, includes lunch and prizes. \nPre-registration is required – sign up at the Golf Course Roundhouse. \nFor more information please contact Garth Papp\, 250-470-9556.
URL:https://sweetlife.com/hprevent/mens-golf-day/
CATEGORIES:Other
END:VEVENT
END:VCALENDAR